BEGIN:VCALENDAR
VERSION:2.0
PRODID:-//Chartair - ECPv4.8.1//NONSGML v1.0//EN
CALSCALE:GREGORIAN
METHOD:PUBLISH
X-WR-CALNAME:Chartair
X-ORIGINAL-URL:https://chartair.com.au
X-WR-CALDESC:Events for Chartair
BEGIN:VEVENT
DTSTART;TZID=UTC+9.5:20190222T080000
DTEND;TZID=UTC+9.5:20190222T170000
DTSTAMP:20190228T220332
CREATED:20180517T190928Z
LAST-MODIFIED:20180517T190928Z
UID:5525-1550822400-1550854800@chartair.com.au
SUMMARY:Flight 880
DESCRIPTION:Flight 880\nAlice Springs > Ayers Rock\n0800 CST > 1040 CST \nAyers Rock > Mount Davies\n1100 CST > 1130 CST \nMount Davies > Nypari\n1150 CST > 1250 CST \nNypari > Amata\n1350 CST > 1525 CST \nAmata > Alice Springs \n1545 CST > 1705 CST \n  \n
URL:https://chartair.com.au/schedule/flight-880-2019-02-22/
END:VEVENT
BEGIN:VEVENT
DTSTART;TZID=UTC+9.5:20190222T080000
DTEND;TZID=UTC+9.5:20190222T130000
DTSTAMP:20190228T220332
CREATED:20180517T191216Z
LAST-MODIFIED:20180517T191606Z
UID:5649-1550822400-1550840400@chartair.com.au
SUMMARY:Flight 992
DESCRIPTION:Flight 992\nAlice Springs > Kiwirrkurra\n0800 CST > 1000 CST \nKiwirrkurra > Alice Springs \n1100 CST > 1300 CST \n  \n
URL:https://chartair.com.au/schedule/flight-992-2-2019-02-22/
END:VEVENT
BEGIN:VEVENT
DTSTART;TZID=UTC+9.5:20190222T080000
DTEND;TZID=UTC+9.5:20190222T143000
DTSTAMP:20190228T220332
CREATED:20180517T192130Z
LAST-MODIFIED:20180517T192305Z
UID:5968-1550822400-1550845800@chartair.com.au
SUMMARY:Flight 991B
DESCRIPTION:Flight 991B\nBorroloola > Mallapunyah\n0800 CST > 0830 CST \nMallapunyah > Kiana\n0840 CST > 0855 CST \nKiana > Walhallow\n0905 CST > 0925 CST \nWalhallow > Eva Downs\n0935 CST > 1000 CST \nEva Downs > Ucharonidge\n1010 CST > 1030 CST \nUcharonidge > Tennant Creek\n1040 CST > 1130 CST \nTennant Creek > Alice Springs\n1230 CST > 1420 CST \n
URL:https://chartair.com.au/schedule/flight-991b-2019-02-22/
END:VEVENT
BEGIN:VEVENT
DTSTART;TZID=UTC+9.5:20190222T083000
DTEND;TZID=UTC+9.5:20190222T133000
DTSTAMP:20190228T220332
CREATED:20180517T190536Z
LAST-MODIFIED:20180517T190536Z
UID:6646-1550824200-1550842200@chartair.com.au
SUMMARY:Flight 998
DESCRIPTION:Flight 998\nKalgoorlie > Tjuntjuntjarra\n0700 WST | 0830 CST > 1040 CST | 0910 WST \nTjuntjuntjarra > Kalgoorlie \n0930 WST | 1100 CST > 1310 CST | 1140 WST \n
URL:https://chartair.com.au/schedule/flight-998-2019-02-22/
END:VEVENT
BEGIN:VEVENT
DTSTART;TZID=UTC+0:20190222T090000
DTEND;TZID=UTC+0:20190222T200000
DTSTAMP:20190228T220332
CREATED:20180620T184540Z
LAST-MODIFIED:20180620T184540Z
UID:7193-1550826000-1550865600@chartair.com.au
SUMMARY:Flight 504
DESCRIPTION:Flight 504\nCairns > Robinhood\n0900 AEST > 1015 AEST \nRobinhood > Abingdon Downs\n1025 AEST > 1105 AEST \nAbingdon Downs > Torwood\n1115 AEST > 1135 AEST \nTorwood > Bulimba\n1145 AEST > 1205 AEST \nBulimba > Vanrook\n1215 AEST > 1300 AEST \nVanrook > Dorunda\n1310 AEST > 1325 AEST \nDorunda > Inkerman\n1335 AEST > 1355 AEST \nInkerman > Kowanyama\n1405 AEST > 1430 AEST \nKowanyama > Rutkland Plains\n1530 AEST > 1605 AEST \nRutkland Plains > Koolatah\n1615 AEST > 1635 AEST \nKoolatah > Dunbar\n1645  AEST > 1655 AEST \nDunbar > Drumduff\n1705 AEST > 1725 AEST \nDrumduff > Highbury\n1735 AEST > 1750 AEST \nHighbury > Gamboola\n1800 AEST > 1815 AEST \nGamboola > Wrotham Park\n1825 AEST > 1840 AEST \nWrotham Park > Cairns\n1850 AEST > 1940 AEST \n
URL:https://chartair.com.au/schedule/flight-504-2019-02-22/
END:VEVENT
BEGIN:VEVENT
DTSTART;TZID=UTC+9.5:20190222T140000
DTEND;TZID=UTC+9.5:20190222T160000
DTSTAMP:20190228T220332
CREATED:20180517T191529Z
LAST-MODIFIED:20180517T193507Z
UID:5770-1550844000-1550851200@chartair.com.au
SUMMARY:Flight 893
DESCRIPTION:Flight 893\nAlice Springs > Finke\n1400 CST > 1450 CST \nFinke > Alice Springs \n1510 CST > 1600 CST \n  \n
URL:https://chartair.com.au/schedule/flight-893-2-2019-02-22/
END:VEVENT
END:VCALENDAR