BEGIN:VCALENDAR
VERSION:2.0
PRODID:-//Chartair - ECPv4.8.1//NONSGML v1.0//EN
CALSCALE:GREGORIAN
METHOD:PUBLISH
X-WR-CALNAME:Chartair
X-ORIGINAL-URL:https://chartair.com.au
X-WR-CALDESC:Events for Chartair
BEGIN:VEVENT
DTSTART;TZID=UTC+10:20190225T090000
DTEND;TZID=UTC+10:20190225T153000
DTSTAMP:20190228T220852
CREATED:20180620T181248Z
LAST-MODIFIED:20180620T181248Z
UID:6794-1551085200-1551108600@chartair.com.au
SUMMARY:Flight 500
DESCRIPTION:Flight 500\nCairns > Laura\n0900 AEST > 0955 AEST \nLaura > Kalinga\n1005 AEST > 1100 AEST \nKalinga > Dixie\n1110 AEST > 1135 AEST \nDixie > Imooya\n1145 AEST > 1200 AEST \nImooya > Pinnacle\n1210 AEST > 1225 AEST \nPinnacle > Strathleven\n1235 AEST > 1250 AEST \nStrathleven > King Junction\n1300 AEST > 1310 AEST \nKing Junction > King Vale\n1320 AEST > 1335 AEST \nKing Vale > Mount Mulgrave\n1345 AEST > 1410 AEST \nMount Mulgrave > Bellevue\n1420 AEST > 1435 AEST \nBellevue > Cairns \n1445 AEST > 1530 AEST \n
URL:https://chartair.com.au/schedule/flight-500-2019-02-25/
END:VEVENT
END:VCALENDAR