BEGIN:VCALENDAR
VERSION:2.0
PRODID:-//Chartair - ECPv4.8.1//NONSGML v1.0//EN
CALSCALE:GREGORIAN
METHOD:PUBLISH
X-WR-CALNAME:Chartair
X-ORIGINAL-URL:https://chartair.com.au
X-WR-CALDESC:Events for Chartair
BEGIN:VEVENT
DTSTART;TZID=UTC+9.5:20190227T080000
DTEND;TZID=UTC+9.5:20190227T143000
DTSTAMP:20190228T221413
CREATED:20180517T182325Z
LAST-MODIFIED:20180517T182325Z
UID:4544-1551254400-1551277800@chartair.com.au
SUMMARY:Flight 882 - MAIL
DESCRIPTION:Flight 882 – MAIL\nAlice Springs > Areyonga\n0800 CST > 0840 CST \nAreyonga > Kings Creek Station\n0850 CST > 0905 CST \nKings Creek Station > Kintore\n0915 CST > 1020 CST \nKintore > Nyirripi\n1120 CST > 1155 CST \nNyirripi > Mount Liebig\n1205 CST > 1230 CST \nMount Liebig > Papunya\n1240 CST > 1255 CST \nPapunya > Haasts Bluff\n1305 CST > 1315 CST \nHaasts Bluff > Alice Springs\n1325 CST > 1415 CST \n
URL:https://chartair.com.au/schedule/flight-882-mail-2019-02-27/
END:VEVENT
BEGIN:VEVENT
DTSTART;TZID=UTC+10:20190227T090000
DTEND;TZID=UTC+10:20190227T153000
DTSTAMP:20190228T221413
CREATED:20180620T182701Z
LAST-MODIFIED:20180620T182701Z
UID:6984-1551258000-1551281400@chartair.com.au
SUMMARY:Flight 502
DESCRIPTION:Flight 502\nCairns > Lakefield\n0900 AEST > 1100 AEST \nLakefield > Coen\n1100 AEST > 1125 AEST \nCoen > Batavia Downs\n1135 AEST > 1150 AEST \nBatavia Downs > Moreton\n1200 AEST > 1225 AEST \nMoreton > Bramwell Station\n1235 AEST > 1255 AEST \nBramwell Station > Heathlands\n1445 AEST > 1500 AEST \nHeathlands > Pascoe River\n1510 AEST > 1525 AEST \nPascoe River > Wattle Hills\n1535 AEST > 1550 AEST \nWattle Hills > Coen\n1600 AEST > 1610 AEST \nCoen > Koolburra\n1620 AEST > 1630 AEST \nKoolburra > Cairns\n1640  AEST > 1650 AEST \n
URL:https://chartair.com.au/schedule/flight-502-2019-02-27/
END:VEVENT
BEGIN:VEVENT
DTSTART;TZID=UTC+9.5:20190227T110000
DTEND;TZID=UTC+9.5:20190227T170000
DTSTAMP:20190228T221413
CREATED:20180516T164100Z
LAST-MODIFIED:20180516T164100Z
UID:6441-1551265200-1551286800@chartair.com.au
SUMMARY:Flight 1000
DESCRIPTION:Flight 1000\nKalgoorlie > Warburton\n0930 WST | 1100 CST > 1335 CST | 1205 WST \nWarburton > Kalgoorlie\n1235 WST | 1405 CST > 1640 CST | 1510 WST \n
URL:https://chartair.com.au/schedule/flight-1000-2019-02-27/
END:VEVENT
BEGIN:VEVENT
DTSTART;TZID=UTC+9.5:20190227T140000
DTEND;TZID=UTC+9.5:20190227T160000
DTSTAMP:20190228T221413
CREATED:20180517T181647Z
LAST-MODIFIED:20180517T181647Z
UID:6543-1551276000-1551283200@chartair.com.au
SUMMARY:Flight 893
DESCRIPTION:Flight 893\nAlice Springs > Finke\n1400 CST > 1450 CST \nFinke > Alice Springs \n1510 CST > 1600 CST \n  \n  \n
URL:https://chartair.com.au/schedule/flight-893-2019-02-27/
END:VEVENT
END:VCALENDAR