BEGIN:VCALENDAR
VERSION:2.0
PRODID:-//Chartair - ECPv4.8.1//NONSGML v1.0//EN
CALSCALE:GREGORIAN
METHOD:PUBLISH
X-WR-CALNAME:Chartair
X-ORIGINAL-URL:https://chartair.com.au
X-WR-CALDESC:Events for Chartair
BEGIN:VEVENT
DTSTART;TZID=UTC+9.5:20190228T080000
DTEND;TZID=UTC+9.5:20190228T133000
DTSTAMP:20190228T221741
CREATED:20180517T183601Z
LAST-MODIFIED:20180517T183601Z
UID:4809-1551340800-1551360600@chartair.com.au
SUMMARY:Flight 881
DESCRIPTION:Flight 881\nAlice Springs > Everard Park\n0800 CST > 1040 CST \nEverard Park > Fregon\n0950 CST > 1015 CST \nFregon > Umuwa\n1035 CST > 1045 CST \nUmuwa > Kenmore Park\n1105 CST > 1115 CST \nKenmore Park > Ernabella\n1125 CST > 1135 CST \nErnabella > Alice Springs\n1215 CST > 1330 CST \n
URL:https://chartair.com.au/schedule/flight-881-2019-02-28/
END:VEVENT
BEGIN:VEVENT
DTSTART;TZID=UTC+9.5:20190228T080000
DTEND;TZID=UTC+9.5:20190228T153000
DTSTAMP:20190228T221741
CREATED:20180517T184040Z
LAST-MODIFIED:20180517T185030Z
UID:4915-1551340800-1551367800@chartair.com.au
SUMMARY:Flight 991A
DESCRIPTION:Flight 991A\nAlice Springs > Tennant Creek\n0800 CST > 0950 CST \nTennant Creek > Mittiebah\n1100 CST > 1215 CST \nMittiebah > Benmara\n1225 CST > 1250 CST \nBenmara > Wollogorang\n1300 CST > 1335 CST \nWollogorang > Calvert Hills\n1345 CST > 1405 CST \nCalvert Hills > Pungalina\n1415 CST > 1435 CST \nPungalina > Borroloola\n1445 CST > 1520 CST \n
URL:https://chartair.com.au/schedule/flight-991a-2019-02-28/
END:VEVENT
BEGIN:VEVENT
DTSTART;TZID=UTC+9.5:20190228T083000
DTEND;TZID=UTC+9.5:20190228T170000
DTSTAMP:20190228T221741
CREATED:20180517T182952Z
LAST-MODIFIED:20180517T182952Z
UID:5142-1551342600-1551373200@chartair.com.au
SUMMARY:Flight 994B
DESCRIPTION:Flight 994B\nKalgoorlie > Tjuntjuntjarra\n0700 WST  | 0830 CST > 1040 CST | 0910 WST \nTjuntjuntjarra > Ilkurlka\n0930 WST | 1100 CST > 1130 CST | 1000 WST \nIlkurlka > Warburton\n1020 WST | 1150 CST > 1250 CST | 1120 WST \nWarburton > Cosmo\n1220 WST | 1350 CST > 1525 CST | 1355 WST \nCosmo > Kalgoorlie\n1415 WST | 1545 CST > 1705 CST | 1535 WST \n
URL:https://chartair.com.au/schedule/flight-994b-2019-02-28/
END:VEVENT
BEGIN:VEVENT
DTSTART;TZID=UTC+10:20190228T090000
DTEND;TZID=UTC+10:20190228T190000
DTSTAMP:20190228T221741
CREATED:20180620T183618Z
LAST-MODIFIED:20180620T183618Z
UID:7090-1551344400-1551380400@chartair.com.au
SUMMARY:Flight 503
DESCRIPTION:Flight 503\nCairns > Battle Camp Station\n0900 AEST > 0955 AEST \nBattle Camp Station > Musgrave\n1005 AEST > 1100 AEST \nMusgrave > Violet Vale\n1110 AEST > 1150 AEST \nViolet Vale > Lillyvale\n1200 AEST > 1215 AEST \nLillyvale > Yarraden\n1225 AEST > 1240 AEST \nYarraden > Coen\n1250 AEST > 1315 AEST \nCoen > Holroyd\n1400 AEST > 1425 AEST \nHolroyd > Strathburn\n1435 AEST > 1505 AEST \nStrathburn > Southwell\n1515 AEST > 1540 AEST \nSouthwell > Balurga\n1550 AEST > 1610 AEST \nBalurga > Strathmay\n1620  AEST > 1635 AEST \nStrathmay > Strathaven\n1645  AEST > 1655 AEST \nStrathaven > Laura\n1705 AEST > 1750 AEST \nLaura > Cairns \n1800 AEST > 1855 AEST \n
URL:https://chartair.com.au/schedule/flight-503-2019-02-28/
END:VEVENT
END:VCALENDAR